BEGIN:VCALENDAR
VERSION:2.0
PRODID:-//Wynnum Presbyterian Church - ECPv6.3.4//NONSGML v1.0//EN
CALSCALE:GREGORIAN
METHOD:PUBLISH
X-WR-CALNAME:Wynnum Presbyterian Church
X-ORIGINAL-URL:https://wynnumpresbyterian.com
X-WR-CALDESC:Events for Wynnum Presbyterian Church
REFRESH-INTERVAL;VALUE=DURATION:PT1H
X-Robots-Tag:noindex
X-PUBLISHED-TTL:PT1H
BEGIN:VTIMEZONE
TZID:UTC
BEGIN:STANDARD
TZOFFSETFROM:+0000
TZOFFSETTO:+0000
TZNAME:UTC
DTSTART:20230101T000000
END:STANDARD
END:VTIMEZONE
BEGIN:VEVENT
DTSTART;TZID=UTC:20230225T110000
DTEND;TZID=UTC:20230225T130000
DTSTAMP:20260420T155546
CREATED:20230215T225648Z
LAST-MODIFIED:20230215T225649Z
UID:2029-1677322800-1677330000@wynnumpresbyterian.com
SUMMARY:Bach to Beatles Organ Recital
DESCRIPTION:The Organ Society of Queensland in cooperation with Wynnum Presbyterian Church will feature the Church’s recently renovated pipe organ in a recital of music spanning the centuries by a variety of composers. \nThe Bach to Beatles recital is a free Community event starting at 11 am on Saturday\, 25th February and followed by a light lunch in the church grounds. \nThe organ was originally built by Charles Dirksen Organs in 1960 and renovated by local firm Pierce Organs at their Hemmant factory in 2022. \nhttps://www.facebook.com/events/5540911936004209?active_tab=about
URL:https://wynnumpresbyterian.com/event/bach-to-beatles-organ-recital/
END:VEVENT
END:VCALENDAR