BEGIN:VCALENDAR
VERSION:2.0
PRODID:-//Wynnum Presbyterian Church - ECPv6.3.4//NONSGML v1.0//EN
CALSCALE:GREGORIAN
METHOD:PUBLISH
X-WR-CALNAME:Wynnum Presbyterian Church
X-ORIGINAL-URL:https://wynnumpresbyterian.com
X-WR-CALDESC:Events for Wynnum Presbyterian Church
REFRESH-INTERVAL;VALUE=DURATION:PT1H
X-Robots-Tag:noindex
X-PUBLISHED-TTL:PT1H
BEGIN:VTIMEZONE
TZID:Australia/Brisbane
BEGIN:STANDARD
TZOFFSETFROM:+1000
TZOFFSETTO:+1000
TZNAME:AEST
DTSTART:20220101T000000
END:STANDARD
TZID:UTC
BEGIN:STANDARD
TZOFFSETFROM:+0000
TZOFFSETTO:+0000
TZNAME:UTC
DTSTART:20180101T000000
END:STANDARD
END:VTIMEZONE
BEGIN:VEVENT
DTSTART;TZID=Australia/Brisbane:20220320T103000
DTEND;TZID=Australia/Brisbane:20220320T120000
DTSTAMP:20260421T122536
CREATED:20220213T171117Z
LAST-MODIFIED:20220213T171117Z
UID:2010-1647772200-1647777600@wynnumpresbyterian.com
SUMMARY:Wynnum Community Brunch
DESCRIPTION:Join us for our Community Brunch!\nStay updated and like us on Facebook!
URL:https://wynnumpresbyterian.com/event/wynnum-community-brunch/
LOCATION:Wynnum Presbyterian\, Corner Bay Tce. & Cedar St. Wynnum\, Brisbane\, QLD\, Wynnum\, Queensland\, Australia
END:VEVENT
BEGIN:VEVENT
DTSTART;TZID=UTC:20210404T093000
DTEND;TZID=UTC:20210404T103000
DTSTAMP:20260421T122536
CREATED:20210314T212000Z
LAST-MODIFIED:20210314T212000Z
UID:2007-1617528600-1617532200@wynnumpresbyterian.com
SUMMARY:Easter Sunday Service
DESCRIPTION:You are invited to our Easter services! 📩 ✝️ \n🗓 Good Friday @ 8am \n🗓 Easter Sunday @ 9:30am \nJoin us for Easter with music\, a full kids program and a message of hope! 🤲🙏 \nShare this with your friends and family so that they can hear the word of God!
URL:https://wynnumpresbyterian.com/event/easter-sunday-service/
LOCATION:Wynnum Presbyterian\, Corner Bay Tce. & Cedar St. Wynnum\, Brisbane\, QLD\, Wynnum\, Queensland\, Australia
END:VEVENT
BEGIN:VEVENT
DTSTART;TZID=UTC:20210402T080000
DTEND;TZID=UTC:20210402T090000
DTSTAMP:20260421T122536
CREATED:20210314T211831Z
LAST-MODIFIED:20210314T211831Z
UID:2003-1617350400-1617354000@wynnumpresbyterian.com
SUMMARY:Good Friday Service
DESCRIPTION:You are invited to our Easter services! 📩 ✝️ \n🗓 Good Friday @ 8am \n🗓 Easter Sunday @ 9:30am \nJoin us for Easter with music\, a full kids program and a message of hope! 🤲🙏 \nShare this with your friends and family so that they can hear the word of God!
URL:https://wynnumpresbyterian.com/event/good-friday-service/
LOCATION:Wynnum Presbyterian\, Corner Bay Tce. & Cedar St. Wynnum\, Brisbane\, QLD\, Wynnum\, Queensland\, Australia
END:VEVENT
BEGIN:VEVENT
DTSTART;TZID=UTC:20191225T080000
DTEND;TZID=UTC:20191225T090000
DTSTAMP:20260421T122536
CREATED:20191220T154236Z
LAST-MODIFIED:20191220T154236Z
UID:1994-1577260800-1577264400@wynnumpresbyterian.com
SUMMARY:Christmas Day Service
DESCRIPTION:Join us for our Christmas Day Service at 8am.
URL:https://wynnumpresbyterian.com/event/christmas-day-service/
END:VEVENT
BEGIN:VEVENT
DTSTART;TZID=UTC:20191222T170000
DTEND;TZID=UTC:20191222T190000
DTSTAMP:20260421T122536
CREATED:20191220T154022Z
LAST-MODIFIED:20191220T154022Z
UID:1991-1577034000-1577041200@wynnumpresbyterian.com
SUMMARY:Christmas Carols and BBQ
DESCRIPTION:Join us for our Christmas Carol evening followed by a BBQ. Hope to see you there.
URL:https://wynnumpresbyterian.com/event/christmas-carols-and-bbq/
LOCATION:Wynnum Presbyterian\, Corner Bay Tce. & Cedar St. Wynnum\, Brisbane\, QLD\, Wynnum\, Queensland\, Australia
END:VEVENT
BEGIN:VEVENT
DTSTART;TZID=UTC:20181125T093000
DTEND;TZID=UTC:20181125T110000
DTSTAMP:20260421T122536
CREATED:20181027T184636Z
LAST-MODIFIED:20181027T184636Z
UID:1922-1543138200-1543143600@wynnumpresbyterian.com
SUMMARY:Sunday Gathering
DESCRIPTION:
URL:https://wynnumpresbyterian.com/event/sunday-gathering-4/
CATEGORIES:Sunday Gathering
END:VEVENT
BEGIN:VEVENT
DTSTART;TZID=UTC:20181122T113000
DTEND;TZID=UTC:20181122T140000
DTSTAMP:20260421T122536
CREATED:20181027T184858Z
LAST-MODIFIED:20181027T185106Z
UID:1926-1542886200-1542895200@wynnumpresbyterian.com
SUMMARY:Ladies Craft Breakup
DESCRIPTION:Christmas Break Up Wynnum RSL
URL:https://wynnumpresbyterian.com/event/ladies-craft-breakup/
CATEGORIES:Ladies craft
END:VEVENT
BEGIN:VEVENT
DTSTART;TZID=UTC:20181118T093000
DTEND;TZID=UTC:20181118T110000
DTSTAMP:20260421T122536
CREATED:20181027T184600Z
LAST-MODIFIED:20181027T184600Z
UID:1920-1542533400-1542538800@wynnumpresbyterian.com
SUMMARY:Sunday Gathering
DESCRIPTION:
URL:https://wynnumpresbyterian.com/event/sunday-gathering-2/
CATEGORIES:Sunday Gathering
END:VEVENT
BEGIN:VEVENT
DTSTART;TZID=UTC:20181111T093000
DTEND;TZID=UTC:20181111T110000
DTSTAMP:20260421T122536
CREATED:20181027T184525Z
LAST-MODIFIED:20181027T184525Z
UID:1918-1541928600-1541934000@wynnumpresbyterian.com
SUMMARY:Sunday Gathering
DESCRIPTION:
URL:https://wynnumpresbyterian.com/event/sunday-gathering/
CATEGORIES:Sunday Gathering
END:VEVENT
BEGIN:VEVENT
DTSTART;TZID=UTC:20181108T094500
DTEND;TZID=UTC:20181108T120000
DTSTAMP:20260421T122536
CREATED:20181027T184811Z
LAST-MODIFIED:20181027T185729Z
UID:1924-1541670300-1541678400@wynnumpresbyterian.com
SUMMARY:Ladies Craft
DESCRIPTION:Candle holder     more info click here
URL:https://wynnumpresbyterian.com/event/ladies-craft/
CATEGORIES:Ladies craft
END:VEVENT
BEGIN:VEVENT
DTSTART;TZID=UTC:20181104T093000
DTEND;TZID=UTC:20181104T120000
DTSTAMP:20260421T122536
CREATED:20181027T184432Z
LAST-MODIFIED:20181027T184447Z
UID:1916-1541323800-1541332800@wynnumpresbyterian.com
SUMMARY:Sunday Gathering/Brunch
DESCRIPTION:
URL:https://wynnumpresbyterian.com/event/sunday-gathering-brunch/
CATEGORIES:Church Brunch,Sunday Gathering
END:VEVENT
BEGIN:VEVENT
DTSTART;TZID=UTC:20181028T093000
DTEND;TZID=UTC:20181028T110000
DTSTAMP:20260421T122536
CREATED:20180929T180653Z
LAST-MODIFIED:20180929T180653Z
UID:1881-1540719000-1540724400@wynnumpresbyterian.com
SUMMARY:Sunday Gathering
DESCRIPTION:
URL:https://wynnumpresbyterian.com/event/sunday-gathering-3/
CATEGORIES:Sunday Gathering
END:VEVENT
END:VCALENDAR